BEGIN:VCALENDAR
VERSION:2.0
PRODID:-//Great Lakes Conference - ECPv6.15.20//NONSGML v1.0//EN
CALSCALE:GREGORIAN
METHOD:PUBLISH
X-WR-CALNAME:Great Lakes Conference
X-ORIGINAL-URL:https://greatlakes.cc
X-WR-CALDESC:Events for Great Lakes Conference
REFRESH-INTERVAL;VALUE=DURATION:PT1H
X-Robots-Tag:noindex
X-PUBLISHED-TTL:PT1H
BEGIN:VTIMEZONE
TZID:America/Detroit
BEGIN:DAYLIGHT
TZOFFSETFROM:-0500
TZOFFSETTO:-0400
TZNAME:EDT
DTSTART:20250309T070000
END:DAYLIGHT
BEGIN:STANDARD
TZOFFSETFROM:-0400
TZOFFSETTO:-0500
TZNAME:EST
DTSTART:20251102T060000
END:STANDARD
BEGIN:DAYLIGHT
TZOFFSETFROM:-0500
TZOFFSETTO:-0400
TZNAME:EDT
DTSTART:20260308T070000
END:DAYLIGHT
BEGIN:STANDARD
TZOFFSETFROM:-0400
TZOFFSETTO:-0500
TZNAME:EST
DTSTART:20261101T060000
END:STANDARD
BEGIN:DAYLIGHT
TZOFFSETFROM:-0500
TZOFFSETTO:-0400
TZNAME:EDT
DTSTART:20270314T070000
END:DAYLIGHT
BEGIN:STANDARD
TZOFFSETFROM:-0400
TZOFFSETTO:-0500
TZNAME:EST
DTSTART:20271107T060000
END:STANDARD
END:VTIMEZONE
BEGIN:VEVENT
DTSTART;VALUE=DATE:20260206
DTEND;VALUE=DATE:20260209
DTSTAMP:20260423T135747
CREATED:20251120T155252Z
LAST-MODIFIED:20251120T190321Z
UID:7816-1770336000-1770595199@greatlakes.cc
SUMMARY:Exploring Your Call Retreat
DESCRIPTION:Location: Weber Retreat and Conference Center\, 1257 E Siena Heights Dr\, Adrian\, MI 49221 \nRegistration: Click Here to Register Online \n \n\nDownload Brochure [pdf] \nAre you sensing a pull towards ministry\, yet feeling uncertain about what it means or how to move forward? This upcoming February\, the GLC invites you to step away from the busyness of daily life and join us for an “Exploring Your Call” retreat. We’re gathering individuals who are considering a call to ministry\, whether you’ve been wrestling with this question for years or are just beginning to wonder what a “call” even means. This retreat will be held from February 6-8\, 2026 on the peaceful grounds of The Weber Retreat and Conference Center in Adrian\, Michigan. This retreat is crafted especially for those who are considering whether God might be calling them to ministry\, of any kind. \nThis retreat is more than an event; it’s a sacred space set aside for listening deeply\, to God’s voice and to the wisdom of community. You’ll have opportunities to discern whether God is inviting you into ministry\, gain clarity about your next steps and timing\, and build a strong support system with fellow seekers who understand the journey ahead. You’ll find encouragement at the retreat where guided conversations and quiet reflection will help illuminate what God might be calling you to do. \nMinistry is not a solitary journey. At this retreat\, you’ll connect with others who share similar questions and aspirations; building relationships that will support you long after the weekend together ends. You don’t need all the answers\, just the courage to explore. Come ready to ask questions\, reflect honestly about your sense of purpose\, and discover new possibilities surrounded by people who care deeply about your journey. We encourage you to register early\, this retreat is only allowing 20 participants\, so that everyone receives the personal attention they deserve. \nIf curiosity or uncertainty is stirring within you right now—even if you’re not sure what comes next\, we invite you to take this brave step. And if any questions remain\, please reach out to the GLC office at 248-595-8098 or info@greatlakes.cc. We are always happy to chat!
URL:https://greatlakes.cc/event/exploring-your-call-retreat/
LOCATION:Weber Retreat and Conference Center\, Adrian\, Michigan\, 1257 E Siena Heights Dr\, Adrian\, MI\, 49221\, United States
END:VEVENT
END:VCALENDAR