BEGIN:VCALENDAR
VERSION:2.0
PRODID:-//Great Lakes Conference - ECPv6.15.20//NONSGML v1.0//EN
CALSCALE:GREGORIAN
METHOD:PUBLISH
X-WR-CALNAME:Great Lakes Conference
X-ORIGINAL-URL:https://greatlakes.cc
X-WR-CALDESC:Events for Great Lakes Conference
REFRESH-INTERVAL;VALUE=DURATION:PT1H
X-Robots-Tag:noindex
X-PUBLISHED-TTL:PT1H
BEGIN:VTIMEZONE
TZID:UTC
BEGIN:STANDARD
TZOFFSETFROM:+0000
TZOFFSETTO:+0000
TZNAME:UTC
DTSTART:20230101T000000
END:STANDARD
END:VTIMEZONE
BEGIN:VEVENT
DTSTART;VALUE=DATE:20241021
DTEND;VALUE=DATE:20241024
DTSTAMP:20260424T150526
CREATED:20240806T211541Z
LAST-MODIFIED:20240806T213649Z
UID:7173-1729468800-1729727999@greatlakes.cc
SUMMARY:Fall Pastors' Retreat 2024
DESCRIPTION:Location: Maumee Bay Lodge & Conference Center\, Oregon\, OH\n \nRegister Online: Click here \nBrochure & Register by Mail: Click here to download the 2024 Fall Pastors’ Retreat Brochure [pdf] \n \n \nInstructions for Reserving Cottages:\nCottage Map: Click here to download [pdf] \nOne wing of Maumee Bay Lodge will be undergoing some roof replacement while we are there. During the construction\, those accomodations will be unavailable to us. We are instead receiving 2- and 4-bedroom cottages at the same price as the rooms in the lodge. The number of people expected to come to the retreat will require that we use al of the rooms/cottages that are available to us. \nThe 2-bedroom cottages have one bathroom; maximum occupancy (for this retreat) will be either one couple or two people of the same gender and the minimum occupancy will be one person. In the 4-bedroom cottages with two bathrooms\, the maximum occupancy will be two couples or four people of the same gender and the minimum occupancy will be three people. There are 16 2-bedroom cottages and two 4-bedroom cottages. Registration for the cottages will be on a first come first served basis. \nTo register for a 2-bedroom cottage\, indicate on the registration form that you would prefer a cottage. If a cottage is available when you register\, one will be reserved for you. Otherwise\, if a cottage is not available\, a room ni the lodge wil be reserved for you. You will be notified as to which accommodation has been reserved for you. \nTo register for a 4-bedroom cottage\, cal Peg Wolter at 248-921-8336 and she will email\nyou the link for the online registration for a 4-bedroom cottage. Each couple or individual is responsible to register and pay for themselves\, but you will need to know who will be sharing the cottage with you to start the cottage registration process. \nRates:\n4-bedroom cabin\n2 couples; $370 per couple 4individuals – $185 each\n3 individuals – $215 each
URL:https://greatlakes.cc/event/fall-pastors-retreat-2024/
LOCATION:Maumee Bay Lodge and Conference Center\, 1750 State Park Rd #2\, Oregon\, OH\, 43616
CATEGORIES:GLC
ATTACH;FMTTYPE=image/jpeg:https://greatlakes.cc/wp-content/uploads/2021/08/Maumee-Bay-Lodge.jpg
END:VEVENT
END:VCALENDAR