BEGIN:VCALENDAR
VERSION:2.0
PRODID:-//Great Lakes Conference - ECPv6.15.20//NONSGML v1.0//EN
CALSCALE:GREGORIAN
METHOD:PUBLISH
X-ORIGINAL-URL:https://greatlakes.cc
X-WR-CALDESC:Events for Great Lakes Conference
REFRESH-INTERVAL;VALUE=DURATION:PT1H
X-Robots-Tag:noindex
X-PUBLISHED-TTL:PT1H
BEGIN:VTIMEZONE
TZID:America/Detroit
BEGIN:DAYLIGHT
TZOFFSETFROM:-0500
TZOFFSETTO:-0400
TZNAME:EDT
DTSTART:20240310T070000
END:DAYLIGHT
BEGIN:STANDARD
TZOFFSETFROM:-0400
TZOFFSETTO:-0500
TZNAME:EST
DTSTART:20241103T060000
END:STANDARD
BEGIN:DAYLIGHT
TZOFFSETFROM:-0500
TZOFFSETTO:-0400
TZNAME:EDT
DTSTART:20250309T070000
END:DAYLIGHT
BEGIN:STANDARD
TZOFFSETFROM:-0400
TZOFFSETTO:-0500
TZNAME:EST
DTSTART:20251102T060000
END:STANDARD
BEGIN:DAYLIGHT
TZOFFSETFROM:-0500
TZOFFSETTO:-0400
TZNAME:EDT
DTSTART:20260308T070000
END:DAYLIGHT
BEGIN:STANDARD
TZOFFSETFROM:-0400
TZOFFSETTO:-0500
TZNAME:EST
DTSTART:20261101T060000
END:STANDARD
BEGIN:DAYLIGHT
TZOFFSETFROM:-0500
TZOFFSETTO:-0400
TZNAME:EDT
DTSTART:20270314T070000
END:DAYLIGHT
BEGIN:STANDARD
TZOFFSETFROM:-0400
TZOFFSETTO:-0500
TZNAME:EST
DTSTART:20271107T060000
END:STANDARD
END:VTIMEZONE
BEGIN:VTIMEZONE
TZID:UTC
BEGIN:STANDARD
TZOFFSETFROM:+0000
TZOFFSETTO:+0000
TZNAME:UTC
DTSTART:20240101T000000
END:STANDARD
END:VTIMEZONE
BEGIN:VEVENT
DTSTART;TZID=America/Detroit:20250924T190000
DTEND;TZID=America/Detroit:20250924T200000
DTSTAMP:20260424T004352
CREATED:20250825T220612Z
LAST-MODIFIED:20250825T220612Z
UID:7669-1758740400-1758744000@greatlakes.cc
SUMMARY:Webinar: Why don’t they come back?
DESCRIPTION:Why don’t they come back? First impressions matter to visitors to your church starting with the website\, how the property looks\, how people are welcomed and what the pastor says. Join Rob Hall\, VP of Real Estate Services\, National Covenant Properties and Peg Cichon\, Great Lakes Conference’s Vitality Liaison to reflect on best practices and then reflect on what your church might change. \nContact Jody Eidnes at jody@greatlakes.cc or 248-595-8098 to sign up and get the Zoom link.
URL:https://greatlakes.cc/event/webinar-why-dont-they-come-back/
LOCATION:OH
END:VEVENT
BEGIN:VEVENT
DTSTART;VALUE=DATE:20250929
DTEND;VALUE=DATE:20251002
DTSTAMP:20260424T004352
CREATED:20250624T152430Z
LAST-MODIFIED:20250923T161701Z
UID:7592-1759104000-1759363199@greatlakes.cc
SUMMARY:Fall Pastors Retreat 2025
DESCRIPTION:Location: Maumee Bay Lodge & Conference Center\, 1750 State Park Road #2\, Oregon\, OH 43616 \nRegistration: You can now register for the Fall Pastors Retreat – be an EARLY BIRD! This is a wonderful time for us to be together\, be encouraged\, and be equipped. \n\nClick Here to Register Online\nBrochure & Register by Mail: TBD (Please watch your email and regular mail for a brochure.)\n\nCost: \nWe recognize the cost is significantly more than in previous years and acknowledge this as one of the concerns many of you expressed in the survey following our 2024 retreat. These costs reflect the substantial increase in the costs charged to us by Maumee Bay (food costs at the retreat center increased over 33% compared to 2024 and the room rates went up by 12%). \nThe amount you are asked to pay does not reflect the full cost of the retreat. The actual costs quoted by the Lodge are $370 per person (double occupancy) for the room and meals. But our GLC Staff is committed to raising funds to reduce the cost by $50 per person to $320. Costs for the speaker\, musicians\, and other miscellaneous costs are paid for out of GLCMA funds from your dues. We are looking at additional ways to reduce these costs and will notify you if there are any changes. \nAdditionally\, there are scholarships available. Please contact one of us if you are in need of a scholarship. OUR GOAL is that finances would not prevent anyone from attending. \nWe have looked for other venues to try and reduce the costs. However we have not been able to find any that are of sufficient size and “somewhat centrally located” for our geographically diverse conference. If you have any suggestions for future years\, please feel free to forward them to any of us on the Executive Committee. \nThe Speaker: \nOur speaker for this year is Dr Gary Burge. Gary is s a scholar in New Testament studies specializing in the gospels and the cultural context of first century Judea. In particular\, Gary has written extensively on the Gospel of John and this will be the primary focus of his time with us (details to be provided in the forthcoming brochure) In addition to sharing with us on the Gospel of John\, we expect that Gary will be providing an optional workshop on the Middle East\, particularly the Promised Land\, another one of his focused areas of expertise. \nOriginally from Southern California\, Gary was an undergraduate at the University of California\, Riverside\, and The American University of Beirut\, Lebanon. He attended Fuller Theological Seminary and King’s College\, The University of Aberdeen\, Scotland. In Scotland he studied with I. Howard Marshall and earned a Ph.D. in New Testament. He served on the faculties of King College (Tennessee)\, North Park University (Illinois) and after 25 years at Wheaton College (Illinois) he joined the faculty of Calvin Theological Seminary (Michigan) in 2017 as Visiting Professor of New Testament. He moved from regular faculty to adjunct in July 2023. Gary is currently attending Thornapple Covenant Church in Grand Rapids on a fairly regular basis. \nWe look forward to seeing you in September\,\nThe GLCMA Executive Committee\nKendall Churchill\, Chair \nEmail: kendallchurchill@gmail.com\nPhone: (425) 635-8572
URL:https://greatlakes.cc/event/fall-pastors-retreat-2025/
LOCATION:Maumee Bay Lodge and Conference Center\, 1750 State Park Rd #2\, Oregon\, OH\, 43616
CATEGORIES:GLC
END:VEVENT
BEGIN:VEVENT
DTSTART;VALUE=DATE:20260126
DTEND;VALUE=DATE:20260131
DTSTAMP:20260424T004352
CREATED:20251024T145234Z
LAST-MODIFIED:20251119T174018Z
UID:7741-1769385600-1769817599@greatlakes.cc
SUMMARY:Midwinter 2026
DESCRIPTION:Location: Sheraton Grand Chicago Riverwalk Hotel\, Chicago\, IL \nInfo: covchurch.org/midwinter \nRegister online: Click Here \nRegister soon! 2026 Registration Rates:\nEarly registration through November 21 / Regular registration after November 21\, 2025 \n\nPrimary Registrant | $395/$440 (early/regular)\nAdditional Registrant | $365/$410 (early/regular)\nRetiree\, Spouse\, Bivocational | $225/$275 (early/regular)\nNPTS/CHET Student | $225/$275 (early/regular)\n\nMidwinter Intro Video (click image to open link) \nIn 1939\, a simple idea took root in Chicago: pastors need one another. That small gathering became a legacy—renewing Covenant leaders for generations. For eighty-seven years\, Covenant pastors and ministry leaders have gathered for a sacred pause called Midwinter—a space to reconnect\, recharge\, and remember that they’re not alone. \nMidwinter is more than a conference—it’s a sanctuary. A place to worship\, learn\, and be restored. Together pastors and leaders are renewed in Christ’s love and strengthened for the sacred work of leading and serving—side by side\, with one another. \nThis year the theme is – One Another \nThis January\, they are centering a timeless New Testament refrain: “One Another.” Love one another. Forgive one another. Bear one another’s burdens. These words shaped the early church and continue to guide us as we nurture disciples who love deeply\, give generously\, and grow continually. \nThere will be worship time\, break-out sessions and relationship building. If you have never been to a Midwinter\, this will be a time to meet colleagues and develop vital relationships. We know we need one another because we are better together. We look to build connections and faith in each other as we work side by side in ministry together. \nIn addition to the Midwinter conference programming\, explore the host city\, Chicago\, and all that it has to offer.
URL:https://greatlakes.cc/event/midwinter-2026/
LOCATION:OH
CATEGORIES:ECC
END:VEVENT
BEGIN:VEVENT
DTSTART;VALUE=DATE:20260206
DTEND;VALUE=DATE:20260209
DTSTAMP:20260424T004352
CREATED:20251120T155252Z
LAST-MODIFIED:20251120T190321Z
UID:7816-1770336000-1770595199@greatlakes.cc
SUMMARY:Exploring Your Call Retreat
DESCRIPTION:Location: Weber Retreat and Conference Center\, 1257 E Siena Heights Dr\, Adrian\, MI 49221 \nRegistration: Click Here to Register Online \n \n\nDownload Brochure [pdf] \nAre you sensing a pull towards ministry\, yet feeling uncertain about what it means or how to move forward? This upcoming February\, the GLC invites you to step away from the busyness of daily life and join us for an “Exploring Your Call” retreat. We’re gathering individuals who are considering a call to ministry\, whether you’ve been wrestling with this question for years or are just beginning to wonder what a “call” even means. This retreat will be held from February 6-8\, 2026 on the peaceful grounds of The Weber Retreat and Conference Center in Adrian\, Michigan. This retreat is crafted especially for those who are considering whether God might be calling them to ministry\, of any kind. \nThis retreat is more than an event; it’s a sacred space set aside for listening deeply\, to God’s voice and to the wisdom of community. You’ll have opportunities to discern whether God is inviting you into ministry\, gain clarity about your next steps and timing\, and build a strong support system with fellow seekers who understand the journey ahead. You’ll find encouragement at the retreat where guided conversations and quiet reflection will help illuminate what God might be calling you to do. \nMinistry is not a solitary journey. At this retreat\, you’ll connect with others who share similar questions and aspirations; building relationships that will support you long after the weekend together ends. You don’t need all the answers\, just the courage to explore. Come ready to ask questions\, reflect honestly about your sense of purpose\, and discover new possibilities surrounded by people who care deeply about your journey. We encourage you to register early\, this retreat is only allowing 20 participants\, so that everyone receives the personal attention they deserve. \nIf curiosity or uncertainty is stirring within you right now—even if you’re not sure what comes next\, we invite you to take this brave step. And if any questions remain\, please reach out to the GLC office at 248-595-8098 or info@greatlakes.cc. We are always happy to chat!
URL:https://greatlakes.cc/event/exploring-your-call-retreat/
LOCATION:Weber Retreat and Conference Center\, Adrian\, Michigan\, 1257 E Siena Heights Dr\, Adrian\, MI\, 49221\, United States
END:VEVENT
BEGIN:VEVENT
DTSTART;VALUE=DATE:20260424
DTEND;VALUE=DATE:20260426
DTSTAMP:20260424T004352
CREATED:20250915T205632Z
LAST-MODIFIED:20260220T232813Z
UID:7673-1776988800-1777161599@greatlakes.cc
SUMMARY:GLC Annual Celebration 2026
DESCRIPTION:Where:\nLifeChurch Canton\n7001 N Haggerty Rd\,\nCanton Twp.\, MI 48187 \n\nRegistration & Brochure:\nRegister Online \nRegister by Mail [pdf] \nDownload the full 2025 Brochure\, including Schedule\, Workshops\, Places to Stay\, and More [pdf] \n\nSchedule:\nnote: Times are subject to change. \nFriday April 24 \n8:00am – Open Registration \n9:00am-12:00pm – Ministerial Association Annual Meeting – no online participation\, can stream \n12:00-1:15pm – Lunch \n1:30-3:00pm – Workshop A (6 workshops) \n3:15-4:45pm – Workshop B (6 workshops) \n5:15-6:45pm – Dinner \n7:00-8:30pm – Worship Service \nSaturday April 25 \n8:00am – Registration if not already registered \n8:30am-12:30pm – GLC Annual Meeting – no online participation\, can stream \n12:00pm – Boxed Lunch to go (Meeting may take until 12:30\, but it might be done as early as noon.) \n\n\nPlaces to Stay:\n\nLife Church Canton has secured special Annual Celebration rates at these nearby hotels. If calling to book\, please let them know you are with the GLC Annual Celebration group.  \nCountry Inn & Suites by Radisson\n21625 Haggerty Rd.\nNovi\, MI 48375\n248-504-0808\n$91/night (rate expires April 8) \nTru by Hilton Novi\n40255 West 13 Mile\nNovi\, MI 48377\n248-973-6306\n$109/night (rate expires April 14) \nHoliday Inn Express & Suites Detroit\n39675 W 12 Mile Rd\nNovi\, MI 48377\n248-344-8204\n$124/night (rate expires April 14) \nDoubleTree by Hilton Detroit\n42100 Crescent Blvd.\nNovi\, MI 48375\n248-344-8800\nfrom $130/night (rate expires April 18) \n\n\nDelegate Selection:\nMember congregations shall be entitled to representation as follows: congregations up to 100 members\, two delegates; congregations with 101 to 200 members\, three delegates; congregations with 201 to 300 members\, four delegates; congregations with 301 or more members\, five delegates. \n\nQuestions?\nPlease contact Angela Daniels at angela@greatlakes.cc\, 248-327-0623. \n\n\n\n \n\n \n\n\n\nGLC Ministerium\n\n \nGLC Ministerial Annual Meeting\n\nWhen: Friday April 24\, 9:00am-12:00pm \n\nWhere: Life Covenant Church\, 7001 N Haggerty Rd.\, Canton Twp.\, MI 48187 \n\n \nMinisterial Association Dues\n\n\n\n \n\nPay Dues Online \n\n \n \n\nDownload Paper Dues Form [pdf] \n\n \n\n\n\n\n\n  \n 
URL:https://greatlakes.cc/event/glc-annual-celebration-2026/
LOCATION:LifeChurch Canton\,\, 7001 North Haggerty Road\, Canton\, MI\, 48187
END:VEVENT
BEGIN:VEVENT
DTSTART;TZID=America/Detroit:20260520T090000
DTEND;TZID=America/Detroit:20260520T161500
DTSTAMP:20260424T004352
CREATED:20251024T155407Z
LAST-MODIFIED:20260313T154255Z
UID:7760-1779267600-1779293700@greatlakes.cc
SUMMARY:2026 Hope of the Gospel Evangelism Conference
DESCRIPTION:Date: Wed\, May 20 \nTime: 9:00 am – 4:15 pm Central Time \nLocation: Virtual Summit (link provided after registration) \nConference Host: Ieisha Hawley\, director of Evangelism\, Serve Locally | Make & Deepen Disciples\n\nFREE Registration: Info & Registration here
URL:https://greatlakes.cc/event/2026-hope-of-the-gospel-evangelism-conference/
LOCATION:OH
CATEGORIES:ECC
END:VEVENT
BEGIN:VEVENT
DTSTART;VALUE=DATE:20261004
DTEND;VALUE=DATE:20261008
DTSTAMP:20260424T004352
CREATED:20260403T140113Z
LAST-MODIFIED:20260403T140251Z
UID:8053-1791072000-1791417599@greatlakes.cc
SUMMARY:GLC Pastor-Spouse Fall Retreat
DESCRIPTION:The GLC Pastor-Spouse Fall Retreat at Maumee Bay Conference Center\, Oregon\, OH will take place from October 4-7\, 2026. \nSave the Date! Details to come.
URL:https://greatlakes.cc/event/glc-pastor-spouse-fall-retreat/
LOCATION:Maumee Bay Lodge and Conference Center\, 1750 State Park Rd #2\, Oregon\, OH\, 43616
END:VEVENT
END:VCALENDAR