BEGIN:VCALENDAR
VERSION:2.0
PRODID:-//Great Lakes Conference - ECPv6.15.20//NONSGML v1.0//EN
CALSCALE:GREGORIAN
METHOD:PUBLISH
X-WR-CALNAME:Great Lakes Conference
X-ORIGINAL-URL:https://greatlakes.cc
X-WR-CALDESC:Events for Great Lakes Conference
REFRESH-INTERVAL;VALUE=DURATION:PT1H
X-Robots-Tag:noindex
X-PUBLISHED-TTL:PT1H
BEGIN:VTIMEZONE
TZID:America/Detroit
BEGIN:DAYLIGHT
TZOFFSETFROM:-0500
TZOFFSETTO:-0400
TZNAME:EDT
DTSTART:20180311T070000
END:DAYLIGHT
BEGIN:STANDARD
TZOFFSETFROM:-0400
TZOFFSETTO:-0500
TZNAME:EST
DTSTART:20181104T060000
END:STANDARD
BEGIN:DAYLIGHT
TZOFFSETFROM:-0500
TZOFFSETTO:-0400
TZNAME:EDT
DTSTART:20190310T070000
END:DAYLIGHT
BEGIN:STANDARD
TZOFFSETFROM:-0400
TZOFFSETTO:-0500
TZNAME:EST
DTSTART:20191103T060000
END:STANDARD
BEGIN:DAYLIGHT
TZOFFSETFROM:-0500
TZOFFSETTO:-0400
TZNAME:EDT
DTSTART:20200308T070000
END:DAYLIGHT
BEGIN:STANDARD
TZOFFSETFROM:-0400
TZOFFSETTO:-0500
TZNAME:EST
DTSTART:20201101T060000
END:STANDARD
BEGIN:DAYLIGHT
TZOFFSETFROM:-0500
TZOFFSETTO:-0400
TZNAME:EDT
DTSTART:20210314T070000
END:DAYLIGHT
BEGIN:STANDARD
TZOFFSETFROM:-0400
TZOFFSETTO:-0500
TZNAME:EST
DTSTART:20211107T060000
END:STANDARD
BEGIN:DAYLIGHT
TZOFFSETFROM:-0500
TZOFFSETTO:-0400
TZNAME:EDT
DTSTART:20220313T070000
END:DAYLIGHT
BEGIN:STANDARD
TZOFFSETFROM:-0400
TZOFFSETTO:-0500
TZNAME:EST
DTSTART:20221106T060000
END:STANDARD
BEGIN:DAYLIGHT
TZOFFSETFROM:-0500
TZOFFSETTO:-0400
TZNAME:EDT
DTSTART:20230312T070000
END:DAYLIGHT
BEGIN:STANDARD
TZOFFSETFROM:-0400
TZOFFSETTO:-0500
TZNAME:EST
DTSTART:20231105T060000
END:STANDARD
BEGIN:DAYLIGHT
TZOFFSETFROM:-0500
TZOFFSETTO:-0400
TZNAME:EDT
DTSTART:20240310T070000
END:DAYLIGHT
BEGIN:STANDARD
TZOFFSETFROM:-0400
TZOFFSETTO:-0500
TZNAME:EST
DTSTART:20241103T060000
END:STANDARD
END:VTIMEZONE
BEGIN:VTIMEZONE
TZID:America/New_York
BEGIN:DAYLIGHT
TZOFFSETFROM:-0500
TZOFFSETTO:-0400
TZNAME:EDT
DTSTART:20180311T070000
END:DAYLIGHT
BEGIN:STANDARD
TZOFFSETFROM:-0400
TZOFFSETTO:-0500
TZNAME:EST
DTSTART:20181104T060000
END:STANDARD
BEGIN:DAYLIGHT
TZOFFSETFROM:-0500
TZOFFSETTO:-0400
TZNAME:EDT
DTSTART:20190310T070000
END:DAYLIGHT
BEGIN:STANDARD
TZOFFSETFROM:-0400
TZOFFSETTO:-0500
TZNAME:EST
DTSTART:20191103T060000
END:STANDARD
BEGIN:DAYLIGHT
TZOFFSETFROM:-0500
TZOFFSETTO:-0400
TZNAME:EDT
DTSTART:20200308T070000
END:DAYLIGHT
BEGIN:STANDARD
TZOFFSETFROM:-0400
TZOFFSETTO:-0500
TZNAME:EST
DTSTART:20201101T060000
END:STANDARD
END:VTIMEZONE
BEGIN:VTIMEZONE
TZID:America/Chicago
BEGIN:DAYLIGHT
TZOFFSETFROM:-0600
TZOFFSETTO:-0500
TZNAME:CDT
DTSTART:20180311T080000
END:DAYLIGHT
BEGIN:STANDARD
TZOFFSETFROM:-0500
TZOFFSETTO:-0600
TZNAME:CST
DTSTART:20181104T070000
END:STANDARD
BEGIN:DAYLIGHT
TZOFFSETFROM:-0600
TZOFFSETTO:-0500
TZNAME:CDT
DTSTART:20190310T080000
END:DAYLIGHT
BEGIN:STANDARD
TZOFFSETFROM:-0500
TZOFFSETTO:-0600
TZNAME:CST
DTSTART:20191103T070000
END:STANDARD
BEGIN:DAYLIGHT
TZOFFSETFROM:-0600
TZOFFSETTO:-0500
TZNAME:CDT
DTSTART:20200308T080000
END:DAYLIGHT
BEGIN:STANDARD
TZOFFSETFROM:-0500
TZOFFSETTO:-0600
TZNAME:CST
DTSTART:20201101T070000
END:STANDARD
END:VTIMEZONE
BEGIN:VEVENT
DTSTART;VALUE=DATE:20231103
DTEND;VALUE=DATE:20231106
DTSTAMP:20260423T152506
CREATED:20230802T165051Z
LAST-MODIFIED:20231009T222244Z
UID:6646-1698969600-1699228799@greatlakes.cc
SUMMARY:2023 Women's Retreat: Covenant Mountain Mission Bible Camp
DESCRIPTION:Honey in the Rock\n“But you would be fed with the finest of wheat;\nwith honey from the rock I would satisfy you.” Psalm 81:16 \nWe invite you to join us as we explore ”Honey in the Rock” on Friday\, November 3\, Saturday\, November 4\, 2023 and Sunday\, November 5\, 2023. You are welcome to stay at CMMBC for the entire weekend; Friday evening & Saturday; Saturday & Sunday\, whichever option works best with your schedule. Dinner on Friday\, breakfast\, lunch and dinner on Saturday as well as breakfast on Sunday morning will be available. \nClick Here for more info and registration.
URL:https://greatlakes.cc/event/2023-womens-retreat-covenant-mountain-mission-bible-camp/
LOCATION:Covenant Mountain Mission Bible Camp\, 2390 Horse Hollow Road\, Jonesville\, VA\, 24263
CATEGORIES:Women
ATTACH;FMTTYPE=image/jpeg:https://greatlakes.cc/wp-content/uploads/2023/08/women-retreat-portage-lake-e1691080274352.jpg
END:VEVENT
BEGIN:VEVENT
DTSTART;VALUE=DATE:20230929
DTEND;VALUE=DATE:20231002
DTSTAMP:20260423T152506
CREATED:20230802T164915Z
LAST-MODIFIED:20230830T223630Z
UID:6643-1695945600-1696204799@greatlakes.cc
SUMMARY:2023 Women's Retreat: Portage Lake Bible Camp
DESCRIPTION:Location: Portage Lake Bible Camp\, 4158 Camp Delight Road\, Onekama\, MI 49675 \nRegister Online: click here
URL:https://greatlakes.cc/event/2023-womens-retreat-portage-lake-bible-camp/
LOCATION:Portage Lake Bible Camp\, 4158 Camp Delight Road\, Onekama\, MI\, 49675
CATEGORIES:GLC,Women
END:VEVENT
BEGIN:VEVENT
DTSTART;VALUE=DATE:20230915
DTEND;VALUE=DATE:20230918
DTSTAMP:20260423T152506
CREATED:20230802T164740Z
LAST-MODIFIED:20230825T141011Z
UID:6641-1694736000-1694995199@greatlakes.cc
SUMMARY:2023 Women's Retreat: Mission Meadows
DESCRIPTION:Location: Camp Mission Meadows\, 5201 East Lake Rd.\, Dewittville\, NY 14728 \nRegister Online: click here \n\n\n\n\n\n\nCost:\n\n\nFull weekend $150; $10 discount if registered by 8/31\nSaturday only $100\n\n \n\n\n\n\n\n\n\n 
URL:https://greatlakes.cc/event/2023-womens-retreat-mission-meadows/
LOCATION:Camp Mission Meadows\, 5201 NY-430\, Dewittville\, NY\, 14728
CATEGORIES:GLC,Women
END:VEVENT
BEGIN:VEVENT
DTSTART;VALUE=DATE:20220930
DTEND;VALUE=DATE:20221003
DTSTAMP:20260423T152506
CREATED:20220721T224255Z
LAST-MODIFIED:20220721T230029Z
UID:6215-1664496000-1664755199@greatlakes.cc
SUMMARY:2022 Women's Retreat: Portage Lake Bible Camp
DESCRIPTION:Info TBD
URL:https://greatlakes.cc/event/2022-womens-retreat-portage-lake/
LOCATION:Portage Lake Bible Camp\, 4158 Camp Delight Road\, Onekama\, MI\, 49675
CATEGORIES:GLC,Women
END:VEVENT
BEGIN:VEVENT
DTSTART;VALUE=DATE:20220916
DTEND;VALUE=DATE:20220919
DTSTAMP:20260423T152506
CREATED:20220721T222744Z
LAST-MODIFIED:20220721T230108Z
UID:6199-1663286400-1663545599@greatlakes.cc
SUMMARY:2022 Women's Retreat: Mission Meadows
DESCRIPTION:Re-ignite: Hope in the Lord – Renew our Strength\nOnline Registration: Click Here\nMail-In Registration: Download Form \nSpeaker: Katie Castro \nKatie Castro is a movement leader who is committed to the pursuit of redemptive co-creation with God. She is a serial entrepreneur who has founded multiple nonprofits and initiatives in the last decade ands who intends to spend the rest of her life building a flourishing world alongside her Creator. \nKatie currently leads Ally Co.\, coaches with the Women Speakers Collective\, preaches and speaks at invitation\, and is a church planter. In her spare time\, she leads at Community Helping Hands\, is part of the Infinitum Life team\, and writes for her own blog and as a guest contributor to others. \nKatie is mom to four\, wife to Javi\, and sister to many. Her friends affectionately call her “stubborn as a mule\,” a trait that she has been learning how to wield for good since childhood (and that she hopes her spicy 7-year-old will one day learn how to wield for good too). \nCamp Activities: \nTake advantage of all that camp has to offer; pool party \, indoor climbing wall\, pickle ball\, walks\, long conversations\, and water activities (weather permitting). \nFree time Saturday afternoon will allow you to enjoy camp or visit one of the local towns. \nWant to start the weekend early? Arrive anytime after 3pm on Friday\, Sept 16 and jump start the weekend. There will be a few options. You are welcome to enjoy the camp grounds or sit by the lake & relax with a bible\, coffee a book or just be. \nCost/Registration:\n• Early bird registration ……………………$150\n• Regular registration (after August 4) …. $160\n• Saturday only …………………………… $100
URL:https://greatlakes.cc/event/2022-womens-retreat-mission-meadows/
LOCATION:Camp Mission Meadows\, 5201 NY-430\, Dewittville\, NY\, 14728
CATEGORIES:GLC,Women
END:VEVENT
BEGIN:VEVENT
DTSTART;VALUE=DATE:20211106
DTEND;VALUE=DATE:20211107
DTSTAMP:20260423T152506
CREATED:20210827T155321Z
LAST-MODIFIED:20210827T160745Z
UID:5972-1636156800-1636243199@greatlakes.cc
SUMMARY:Women's Retreat: Covenant Mountain Mission Bible Camp
DESCRIPTION:Come Away with Me…a personal and contemplative 1-day retreat for women\nWe didn’t want to let another year go by without providing an opportunity for women to gather together\, seeking a deeper relationship with Jesus. Therefore the Women Ministries of the Great Lakes Conference is offering 1-day contemplative retreats. We hope that you can come to a quiet place to get some rest.\n. \nNovember 6\, 2021\n\nCovenant Mountain Mission Bible Camp\, Jonesville\, VA\n9:00 am – 3:00 pm\nCost $30\nOnline Registration: cmmbc.org/glc-womens-retreat-south\nDownload Brochure and Mail-In Registration Form \n\n\nWe are offering several other 1-day retreats at different locations throughout Fall 2021. Click Here for more info.
URL:https://greatlakes.cc/event/womens-retreat-covenant-mountain-mission-bible-camp/
LOCATION:Covenant Mountain Mission Bible Camp\, 2390 Horse Hollow Road\, Jonesville\, VA\, 24263
CATEGORIES:Women
END:VEVENT
BEGIN:VEVENT
DTSTART;VALUE=DATE:20211009
DTEND;VALUE=DATE:20211010
DTSTAMP:20260423T152506
CREATED:20210827T155101Z
LAST-MODIFIED:20210827T160721Z
UID:5969-1633737600-1633823999@greatlakes.cc
SUMMARY:Women's Retreat: West Bay Covenant Church
DESCRIPTION:Come Away with Me…a personal and contemplative 1-day retreat for women\nWe didn’t want to let another year go by without providing an opportunity for women to gather together\, seeking a deeper relationship with Jesus. Therefore the Women Ministries of the Great Lakes Conference is offering 1-day contemplative retreats. We hope that you can come to a quiet place to get some rest.\n. \nOctober 9\, 2021\n\nWest Bay Covenant Church\, Traverse City\, MI\n9:00 am – 3:00 pm\nCost $30\nOnline Registration: fruitlandcovenant.org/glcwomenretreats\nDownload Brochure and Mail-In Registration Form \n\n\nWe are offering several other 1-day retreats at different locations throughout Fall 2021. Click Here for more info.
URL:https://greatlakes.cc/event/womens-retreat-west-bay-covenant-church/
LOCATION:West Bay Covenant Church\, 12720 S W Bay Shore Dr\, Traverse City\, MI\, 49684
CATEGORIES:Women
END:VEVENT
BEGIN:VEVENT
DTSTART;VALUE=DATE:20211002
DTEND;VALUE=DATE:20211003
DTSTAMP:20260423T152506
CREATED:20210827T154809Z
LAST-MODIFIED:20210827T160658Z
UID:5966-1633132800-1633219199@greatlakes.cc
SUMMARY:Women's Retreat: Thornapple Covenant Church
DESCRIPTION:Come Away with Me…a personal and contemplative 1-day retreat for women\nWe didn’t want to let another year go by without providing an opportunity for women to gather together\, seeking a deeper relationship with Jesus. Therefore the Women Ministries of the Great Lakes Conference is offering 1-day contemplative retreats. We hope that you can come to a quiet place to get some rest.\n. \nOctober 2\, 2021\n\nThornapple Covenant Church\, Grand Rapids\, MI\n9:00 am – 3:00 pm\nCost $30\nOnline Registration: fruitlandcovenant.org/glcwomenretreats\nDownload Brochure and Mail-In Registration Form \n\n\nWe are offering several other 1-day retreats at different locations throughout Fall 2021. Click Here for more info.
URL:https://greatlakes.cc/event/womens-retreat-thornapple-covenant-church/
LOCATION:Thornapple Covenant Church\, 6595 Cascade Rd SE\, Grand Rapids\, MI\, 49546
CATEGORIES:Women
END:VEVENT
BEGIN:VEVENT
DTSTART;VALUE=DATE:20210925
DTEND;VALUE=DATE:20210926
DTSTAMP:20260423T152506
CREATED:20210827T151113Z
LAST-MODIFIED:20210830T154458Z
UID:5948-1632528000-1632614399@greatlakes.cc
SUMMARY:Women's Retreat: Mission Meadows
DESCRIPTION:Come Away with Me…a personal and contemplative 1-day retreat for women\nWe didn’t want to let another year go by without providing an opportunity for women to gather together\, seeking a deeper relationship with Jesus. Therefore the Women Ministries of the Great Lakes Conference is offering 1-day contemplative retreats. We hope that you can come to a quiet place to get some rest.\n. \nSeptember 25\, 2021\n\nMission Meadows Camp\, Dewittville\, NY\n9:00 am – 3:00 pm\nCost $30\nOnline Registration: https://missionmeadows.org/camp-and-retreats/womens-retreat-2021\nDownload Brochure and Mail-In Registration Form \n\n\nWe are offering several other 1-day retreats at different locations throughout Fall 2021. Click Here for more info.
URL:https://greatlakes.cc/event/womens-retreat-mission-meadows/
LOCATION:Camp Mission Meadows\, 5201 NY-430\, Dewittville\, NY\, 14728
CATEGORIES:Women
END:VEVENT
BEGIN:VEVENT
DTSTART;VALUE=DATE:20191108
DTEND;VALUE=DATE:20191111
DTSTAMP:20260423T152506
CREATED:20190918T152841Z
LAST-MODIFIED:20190918T152938Z
UID:4824-1573171200-1573430399@greatlakes.cc
SUMMARY:Women Ministries Retreat - South
DESCRIPTION:We invite you to deepen your relationship with God by spending time with Him at Covenant Mountain Mission Bible Camp. Psalm 46:10 reminds us to “Be still and know that I am God.” Our retreat will provide opportunities for you to unplug from the hustle and bustle of everyday life and grow deeper in your relationship with God. \nOur retreat speaker is Beth Chilcoat\, who alongside her husband\, David\, spent their early years starting Young Life in Columbus\, Ohio. When David received a diagnosis of ALS (Lou Gehrig’s disease)\, he and Beth wrote an online journal that she later made into a book (“Nobody Tells a Dying Guy to Shut Up”) about trusting God in hard places. \nVisit CMMBC.org for more details and registration
URL:https://greatlakes.cc/event/women-ministries-retreat-south/
LOCATION:Covenant Mountain Mission Bible Camp\, 2390 Horse Hollow Road\, Jonesville\, VA\, 24263
CATEGORIES:GLC,Women
ATTACH;FMTTYPE=image/png:https://greatlakes.cc/wp-content/uploads/2019/09/GLC-Women-Retreat-South-2019.png
END:VEVENT
BEGIN:VEVENT
DTSTART;VALUE=DATE:20191004
DTEND;VALUE=DATE:20191007
DTSTAMP:20260423T152506
CREATED:20190614T033403Z
LAST-MODIFIED:20190918T153129Z
UID:3922-1570147200-1570406399@greatlakes.cc
SUMMARY:Women Ministries Retreat - West
DESCRIPTION:How would you describe the love of God? Sometimes that love feels like a warm embrace. Sometimes it is more like a piercing jab. Always\, it changes everything. This weekend we will dig deep into several encounters that Jesus had with a wide variety of women in the Gospels to show how His love can be equally transformative in our lives today. \nVisit GLCWomen.org for more details and registration
URL:https://greatlakes.cc/event/women-ministries-retreat-west/
LOCATION:Portage Lake Bible Camp\, 4158 Camp Delight Road\, Onekama\, MI\, 49675
CATEGORIES:GLC,Women
ATTACH;FMTTYPE=image/png:https://greatlakes.cc/wp-content/uploads/2019/06/2019-Women-Ministries-Retreat-West-e1560482701620.png
END:VEVENT
BEGIN:VEVENT
DTSTART;VALUE=DATE:20190920
DTEND;VALUE=DATE:20190923
DTSTAMP:20260423T152506
CREATED:20190614T031156Z
LAST-MODIFIED:20190918T153349Z
UID:3914-1568937600-1569196799@greatlakes.cc
SUMMARY:Women Ministries Retreat - East
DESCRIPTION:“Enter the Story” with Ruth Hill and Rebecca Worl. This dynamic mother-daughter duo brings us closer to God as they lead us through the epic story of His Word. In the style of epic adventures (The Odyssey\, Indiana Jones\, The Game of Thrones)\, Ruth and Rebecca take us on a journey through the whole Bible showing God’s love for us and how the Master Storyteller desires us to be a part of His story. \nVisit GLCWomen.org for more details and registration
URL:https://greatlakes.cc/event/women-ministries-retreat-east/
LOCATION:Camp Mission Meadows\, 5201 NY-430\, Dewittville\, NY\, 14728
CATEGORIES:GLC,Women
ATTACH;FMTTYPE=image/png:https://greatlakes.cc/wp-content/uploads/2019/06/2019-Women-Ministries-Retreat-East-e1560482863810.png
END:VEVENT
BEGIN:VEVENT
DTSTART;VALUE=DATE:20190718
DTEND;VALUE=DATE:20190722
DTSTAMP:20260423T152506
CREATED:20190528T060713Z
LAST-MODIFIED:20190605T064611Z
UID:3233-1563408000-1563753599@greatlakes.cc
SUMMARY:Triennial 2019
DESCRIPTION:A Triennial Gathering for Women by Women\nJoin us July 18–21\, 2019\, for a triennial gathering for women by women! In the Evangelical Covenant Church\, we believe that women are called to be disciples and disciple makers. \nOur purpose is to: \n(Re)Discover who we are—as individuals uniquely made in God’s image \nListen to each others’ voices and advocate for women to be heard \nBuild a community of women of the Covenant\, because we are stronger together
URL:https://greatlakes.cc/event/triennial-2019/
LOCATION:Minneapolis Marriott City Center\, 30 South 7th Street\, Minneapolis\, MN\, 55402
CATEGORIES:ECC,Women
ATTACH;FMTTYPE=image/jpeg:https://greatlakes.cc/wp-content/uploads/2019/05/Triennial-2019-logo.jpg
END:VEVENT
END:VCALENDAR