BEGIN:VCALENDAR
VERSION:2.0
PRODID:-//Great Lakes Conference - ECPv6.15.20//NONSGML v1.0//EN
CALSCALE:GREGORIAN
METHOD:PUBLISH
X-ORIGINAL-URL:https://greatlakes.cc
X-WR-CALDESC:Events for Great Lakes Conference
REFRESH-INTERVAL;VALUE=DURATION:PT1H
X-Robots-Tag:noindex
X-PUBLISHED-TTL:PT1H
BEGIN:VTIMEZONE
TZID:America/Detroit
BEGIN:DAYLIGHT
TZOFFSETFROM:-0500
TZOFFSETTO:-0400
TZNAME:EDT
DTSTART:20240310T070000
END:DAYLIGHT
BEGIN:STANDARD
TZOFFSETFROM:-0400
TZOFFSETTO:-0500
TZNAME:EST
DTSTART:20241103T060000
END:STANDARD
BEGIN:DAYLIGHT
TZOFFSETFROM:-0500
TZOFFSETTO:-0400
TZNAME:EDT
DTSTART:20250309T070000
END:DAYLIGHT
BEGIN:STANDARD
TZOFFSETFROM:-0400
TZOFFSETTO:-0500
TZNAME:EST
DTSTART:20251102T060000
END:STANDARD
BEGIN:DAYLIGHT
TZOFFSETFROM:-0500
TZOFFSETTO:-0400
TZNAME:EDT
DTSTART:20260308T070000
END:DAYLIGHT
BEGIN:STANDARD
TZOFFSETFROM:-0400
TZOFFSETTO:-0500
TZNAME:EST
DTSTART:20261101T060000
END:STANDARD
END:VTIMEZONE
BEGIN:VEVENT
DTSTART;VALUE=DATE:20250502
DTEND;VALUE=DATE:20250504
DTSTAMP:20260424T084544
CREATED:20241018T004422Z
LAST-MODIFIED:20250603T184044Z
UID:7255-1746144000-1746316799@greatlakes.cc
SUMMARY:GLC Annual Celebration 2025
DESCRIPTION:Where:\nCamp Mission Meadows\n5201 East Lake Road\, Dewittville\, NY 14728 \n\nRegistration & Brochure:\nRegister Online \nRegister by Mail [pdf] \nDownload the full 2025 Brochure\, including Schedule\, Workshops\, Places to Stay\, and More [pdf] \n\nDownload PDFs:\n2025 Annual Celebration Schedule \n2025 Annual Meeting Presentation – Ministry Planning Cycle \n2025 Annual Meeting Presentation – Ministry Planning Cycle 2 \n2024-2025 Delegate Documents \n2025 Church Prayer Card \n2024-2025 Financial booklet \n2025 Board Nomination Bios Booklet \n\nPlaces to Stay:\n\nCamp Mission Meadows has secured a block of rooms at these nearby hotels. When calling to book\, please let them know you are with the Camp Mission Meadows group. These rates are good until April 1st.  \nCamp Mission Meadows\n5201 Route 430\nDewittville\, NY 14728\n716-386-5932\n$40/PP/night\nShared room and bathroom\nBreakfast Included \nChautauqua Suites\n215 W. Lake Rd\nMayville\, NY 14757\n716-269-7829\n$140/night \nChautauqua Harbor Hotel\n10 Dunham Ave\nCeloron\, NY 14720\n716-489-2800\n$139/night \nHoliday Inn Express & Suites Jamestown\n2811 N. Main Street Ext.\nJamestown\, NY 14701\n(716) 487-0001\n$115/night \n\nDelegate Selection:\nMember congregations shall be entitled to representation as follows: congregations up to 100 members\, two delegates; congregations with 101 to 200 members\, three delegates; congregations with 201 to 300 members\, four delegates; congregations with 301 or more members\, five delegates. \n\nQuestions?\nPlease contact Jody Eidnes at jody@greatlakes.cc\, 248-595-8098. \n\n\n \n\n\n\nGLC Ministerium\n\n \nGLC Ministerial Annual Meeting\n\nFri\, May 2\, 2025 – 9:00am-12:00pm \n\n \nCamp Mission Meadows\, 5201 East Lake Road\, Dewittville\, NY 14728 \n  \n\n \nMinisterial Association Dues\n\n\n\n \n\nPay Dues Online \n\n \n \n\nDownload Paper Dues Form [pdf] \n  \n\n\n\n\n\n  \n  \n  \n  \n 
URL:https://greatlakes.cc/event/glc-annual-celebration-2025/
LOCATION:Camp Mission Meadows\, 5201 NY-430\, Dewittville\, NY\, 14728
CATEGORIES:GLC
END:VEVENT
END:VCALENDAR