BEGIN:VCALENDAR
VERSION:2.0
PRODID:-//Great Lakes Conference - ECPv6.15.20//NONSGML v1.0//EN
CALSCALE:GREGORIAN
METHOD:PUBLISH
X-WR-CALNAME:Great Lakes Conference
X-ORIGINAL-URL:https://greatlakes.cc
X-WR-CALDESC:Events for Great Lakes Conference
REFRESH-INTERVAL;VALUE=DURATION:PT1H
X-Robots-Tag:noindex
X-PUBLISHED-TTL:PT1H
BEGIN:VTIMEZONE
TZID:America/Chicago
BEGIN:DAYLIGHT
TZOFFSETFROM:-0600
TZOFFSETTO:-0500
TZNAME:CDT
DTSTART:20240310T080000
END:DAYLIGHT
BEGIN:STANDARD
TZOFFSETFROM:-0500
TZOFFSETTO:-0600
TZNAME:CST
DTSTART:20241103T070000
END:STANDARD
BEGIN:DAYLIGHT
TZOFFSETFROM:-0600
TZOFFSETTO:-0500
TZNAME:CDT
DTSTART:20250309T080000
END:DAYLIGHT
BEGIN:STANDARD
TZOFFSETFROM:-0500
TZOFFSETTO:-0600
TZNAME:CST
DTSTART:20251102T070000
END:STANDARD
BEGIN:DAYLIGHT
TZOFFSETFROM:-0600
TZOFFSETTO:-0500
TZNAME:CDT
DTSTART:20260308T080000
END:DAYLIGHT
BEGIN:STANDARD
TZOFFSETFROM:-0500
TZOFFSETTO:-0600
TZNAME:CST
DTSTART:20261101T070000
END:STANDARD
END:VTIMEZONE
BEGIN:VEVENT
DTSTART;VALUE=DATE:20250625
DTEND;VALUE=DATE:20250629
DTSTAMP:20260424T082623
CREATED:20250604T005803Z
LAST-MODIFIED:20250604T005913Z
UID:7581-1750809600-1751155199@greatlakes.cc
SUMMARY:ECC Gather 2025
DESCRIPTION:The Annual Meeting is the highest legislative session in the Evangelical Covenant Church.\nEvery congregation is entitled to representation as we worship God and celebrate what God has done throughout the year. We gather to discern future direction\, select leaders\, consecrate missionaries\, credential and ordain clergy and encourage one another to greater discipleship. We make determinations around funding the mission\, and we hear about the challenges and opportunities in front of us. In it all\, we get to meet new friends and strengthen old relationships. \nLocation: Hyatt Regency Grand Cypress\, Orlando\, FL\, 32836\n \nInfo: ECC Gather website
URL:https://greatlakes.cc/event/ecc-gather-2025/
CATEGORIES:ECC
END:VEVENT
END:VCALENDAR