BEGIN:VCALENDAR
VERSION:2.0
PRODID:-//Great Lakes Conference - ECPv6.15.20//NONSGML v1.0//EN
CALSCALE:GREGORIAN
METHOD:PUBLISH
X-WR-CALNAME:Great Lakes Conference
X-ORIGINAL-URL:https://greatlakes.cc
X-WR-CALDESC:Events for Great Lakes Conference
REFRESH-INTERVAL;VALUE=DURATION:PT1H
X-Robots-Tag:noindex
X-PUBLISHED-TTL:PT1H
BEGIN:VTIMEZONE
TZID:America/Chicago
BEGIN:DAYLIGHT
TZOFFSETFROM:-0600
TZOFFSETTO:-0500
TZNAME:CDT
DTSTART:20230312T080000
END:DAYLIGHT
BEGIN:STANDARD
TZOFFSETFROM:-0500
TZOFFSETTO:-0600
TZNAME:CST
DTSTART:20231105T070000
END:STANDARD
BEGIN:DAYLIGHT
TZOFFSETFROM:-0600
TZOFFSETTO:-0500
TZNAME:CDT
DTSTART:20240310T080000
END:DAYLIGHT
BEGIN:STANDARD
TZOFFSETFROM:-0500
TZOFFSETTO:-0600
TZNAME:CST
DTSTART:20241103T070000
END:STANDARD
BEGIN:DAYLIGHT
TZOFFSETFROM:-0600
TZOFFSETTO:-0500
TZNAME:CDT
DTSTART:20250309T080000
END:DAYLIGHT
BEGIN:STANDARD
TZOFFSETFROM:-0500
TZOFFSETTO:-0600
TZNAME:CST
DTSTART:20251102T070000
END:STANDARD
END:VTIMEZONE
BEGIN:VEVENT
DTSTART;VALUE=DATE:20240122
DTEND;VALUE=DATE:20240127
DTSTAMP:20260425T112158
CREATED:20231005T193531Z
LAST-MODIFIED:20231005T193531Z
UID:6746-1705881600-1706313599@greatlakes.cc
SUMMARY:ECC Midwinter 2024
DESCRIPTION:The Midwinter Conference has long been the premier encouraging\, connecting and equipping event for Covenant Pastors. We highly encourage you to attend this winter in Chicago\, IL\, January 22-26\, 2024. \n>> For more information\, visit Midwinter 2024.
URL:https://greatlakes.cc/event/ecc-midwinter-2024/
LOCATION:Hyatt Regency O’Hare\, 9300 W Bryn Mawr Ave.\, Rosemont\, IL\, 60018
CATEGORIES:ECC
ATTACH;FMTTYPE=image/png:https://greatlakes.cc/wp-content/uploads/2023/10/Midwinter-2024.png
END:VEVENT
END:VCALENDAR